BEGIN:VCALENDAR
VERSION:2.0
PRODID:-//185.158.165.56//NONSGML kigkonsult.se iCalcreator 2.20//
CALSCALE:GREGORIAN
METHOD:PUBLISH
X-WR-TIMEZONE:Europe/Brussels
BEGIN:VEVENT
UID:event1@Kfsa
DTSTAMP:20260420T163140Z
CATEGORIES:Clubvergadering
DESCRIPTION:Eerste clubvergadering 2019\nCategorie: Clubvergadering\nLink: 
 https://kfsa.be/index.php?option=com_jem&view=event&id=1:clubvergadering\n
DTSTART;TZID=Europe/Brussels:20190110T180000
DTEND;TZID=Europe/Brussels:20190110T210000
LOCATION:Antwerpen-Centraal\,Koningin Astridplein 27\,2018 Antwerpen
SUMMARY:Eerste clubvergadering 2019
URL:https://kfsa.be/index.php?option=com_jem&view=event&id=1:clubvergaderin
 g
END:VEVENT
END:VCALENDAR
