BEGIN:VCALENDAR
VERSION:2.0
PRODID:-//185.158.165.56//NONSGML kigkonsult.se iCalcreator 2.20//
CALSCALE:GREGORIAN
METHOD:PUBLISH
X-WR-TIMEZONE:Europe/Brussels
BEGIN:VEVENT
UID:event10@Kfsa
DTSTAMP:20260420T163902Z
CATEGORIES:Clubvergadering
DESCRIPTION:Voorbereiding Nat. Salon 2020\nCategorie: Clubvergadering\nLink
 : https://kfsa.be/index.php?option=com_jem&view=event&id=10:voorbereiding-
 nat-salon-2020\n
DTSTART;TZID=Europe/Brussels:20190516T180000
DTEND;TZID=Europe/Brussels:20190516T210000
LOCATION:Antwerpen-Centraal\,Koningin Astridplein 27\,2018 Antwerpen
SUMMARY:Voorbereiding Nat. Salon 2020
URL:https://kfsa.be/index.php?option=com_jem&view=event&id=10:voorbereiding
 -nat-salon-2020
END:VEVENT
END:VCALENDAR
