BEGIN:VCALENDAR
VERSION:2.0
PRODID:-//185.158.165.56//NONSGML kigkonsult.se iCalcreator 2.20//
CALSCALE:GREGORIAN
METHOD:PUBLISH
X-WR-TIMEZONE:Europe/Brussels
BEGIN:VEVENT
UID:event11@Kfsa
DTSTAMP:20260420T161408Z
CATEGORIES:Clubvergadering
DESCRIPTION:Fotobespreking 'MISTIG'\nCategorie: Clubvergadering\nLink: http
 s://kfsa.be/index.php?option=com_jem&view=event&id=11:fotobespreking-misti
 g\n
DTSTART;TZID=Europe/Brussels:20190613T180000
DTEND;TZID=Europe/Brussels:20190613T210000
LOCATION:Antwerpen-Centraal\,Koningin Astridplein 27\,2018 Antwerpen
SUMMARY:Fotobespreking 'MISTIG'
URL:https://kfsa.be/index.php?option=com_jem&view=event&id=11:fotobesprekin
 g-mistig
END:VEVENT
END:VCALENDAR
