BEGIN:VCALENDAR
VERSION:2.0
PRODID:-//185.158.165.56//NONSGML kigkonsult.se iCalcreator 2.20//
CALSCALE:GREGORIAN
METHOD:PUBLISH
X-WR-TIMEZONE:Europe/Brussels
BEGIN:VEVENT
UID:event12@Kfsa
DTSTAMP:20260420T161239Z
CATEGORIES:Clubvergadering
DESCRIPTION:Lenteschoonmaak\nCategorie: Clubvergadering\nLink: https://kfsa
 .be/index.php?option=com_jem&view=event&id=12:lenteschoonmaak\n
DTSTART;TZID=Europe/Brussels:20190627T160000
DTEND;TZID=Europe/Brussels:20190627T200000
LOCATION:Antwerpen-Centraal\,Koningin Astridplein 27\,2018 Antwerpen
SUMMARY:Lenteschoonmaak
URL:https://kfsa.be/index.php?option=com_jem&view=event&id=12:lenteschoonma
 ak
END:VEVENT
END:VCALENDAR
