BEGIN:VCALENDAR
VERSION:2.0
PRODID:-//185.158.165.56//NONSGML kigkonsult.se iCalcreator 2.20//
CALSCALE:GREGORIAN
METHOD:PUBLISH
X-WR-TIMEZONE:Europe/Brussels
BEGIN:VEVENT
UID:event13@Kfsa
DTSTAMP:20260420T162007Z
CATEGORIES:Clubvergadering
DESCRIPTION:Voorbereiding salon 2019\nCategorie: Clubvergadering\nLink: htt
 ps://kfsa.be/index.php?option=com_jem&view=event&id=13:voorbereiding-salon
 -2019\n
DTSTART;TZID=Europe/Brussels:20190905T180000
DTEND;TZID=Europe/Brussels:20190905T210000
LOCATION:Antwerpen-Centraal\,Koningin Astridplein 27\,2018 Antwerpen
SUMMARY:Voorbereiding salon 2019
URL:https://kfsa.be/index.php?option=com_jem&view=event&id=13:voorbereiding
 -salon-2019
END:VEVENT
END:VCALENDAR
