BEGIN:VCALENDAR
VERSION:2.0
PRODID:-//185.158.165.56//NONSGML kigkonsult.se iCalcreator 2.20//
CALSCALE:GREGORIAN
METHOD:PUBLISH
X-WR-TIMEZONE:Europe/Brussels
BEGIN:VEVENT
UID:event17@Kfsa
DTSTAMP:20260420T174118Z
CATEGORIES:Clubvergadering
DESCRIPTION:Clubvergadering\nCategorie: Clubvergadering\nLink: https://kfsa
 .be/index.php?option=com_jem&view=event&id=17:clubvergadering\n
DTSTART;TZID=Europe/Brussels:20191107T180000
DTEND;TZID=Europe/Brussels:20191107T210000
LOCATION:Antwerpen-Centraal\,Koningin Astridplein 27\,2018 Antwerpen
SUMMARY:Clubvergadering
URL:https://kfsa.be/index.php?option=com_jem&view=event&id=17:clubvergaderi
 ng
END:VEVENT
END:VCALENDAR
