BEGIN:VCALENDAR
VERSION:2.0
PRODID:-//185.158.165.56//NONSGML kigkonsult.se iCalcreator 2.20//
CALSCALE:GREGORIAN
METHOD:PUBLISH
X-WR-TIMEZONE:Europe/Brussels
BEGIN:VEVENT
UID:event2@Kfsa
DTSTAMP:20260420T160741Z
CATEGORIES:Clubvergadering
DESCRIPTION:Algemene stutaire vergadering\nCategorie: Clubvergadering\nLink
 : https://kfsa.be/index.php?option=com_jem&view=event&id=2:algemene-stutai
 re-vergadering\n
DTSTART;TZID=Europe/Brussels:20190124T180000
DTEND;TZID=Europe/Brussels:20190124T210000
LOCATION:Antwerpen-Centraal\,Koningin Astridplein 27\,2018 Antwerpen
SUMMARY:Algemene stutaire vergadering
URL:https://kfsa.be/index.php?option=com_jem&view=event&id=2:algemene-stuta
 ire-vergadering
END:VEVENT
END:VCALENDAR
