BEGIN:VCALENDAR
VERSION:2.0
PRODID:-//185.158.165.56//NONSGML kigkonsult.se iCalcreator 2.20//
CALSCALE:GREGORIAN
METHOD:PUBLISH
X-WR-TIMEZONE:Europe/Brussels
BEGIN:VEVENT
UID:event20@Kfsa
DTSTAMP:20260420T174627Z
CATEGORIES:Fotosalon
DESCRIPTION:Fotosalon KFSA 2019\nCategorie: Fotosalon\nLink: https://kfsa.b
 e/index.php?option=com_jem&view=event&id=20:fotosalon-kfsa-2019\n
DTSTART;VALUE=DATE:20191109
DTEND;VALUE=DATE:20191112
LOCATION:Antwerpen-Centraal\,Koningin Astridplein 27\,2018 Antwerpen
SUMMARY:Fotosalon KFSA 2019
URL:https://kfsa.be/index.php?option=com_jem&view=event&id=20:fotosalon-kfs
 a-2019
END:VEVENT
END:VCALENDAR
