BEGIN:VCALENDAR
VERSION:2.0
PRODID:-//185.158.165.56//NONSGML kigkonsult.se iCalcreator 2.20//
CALSCALE:GREGORIAN
METHOD:PUBLISH
X-WR-TIMEZONE:Europe/Brussels
BEGIN:VEVENT
UID:event24@Kfsa
DTSTAMP:20260420T091804Z
CATEGORIES:Clubvergadering
DESCRIPTION:Binnenbrengen foto's nationaal fotosalon\nCategorie: Clubvergad
 ering\nLink: https://kfsa.be/index.php?option=com_jem&view=event&id=24:bin
 nenbrengen-foto-s-nationaal-fotosalon\n
DTSTART;TZID=Europe/Brussels:20200220T183000
DTEND;TZID=Europe/Brussels:20200220T210000
LOCATION:De Crawaett\,Poederleese Steenweg 2A\,2275 Lille
SUMMARY:Binnenbrengen foto's nationaal fotosalon
URL:https://kfsa.be/index.php?option=com_jem&view=event&id=24:binnenbrengen
 -foto-s-nationaal-fotosalon
END:VEVENT
END:VCALENDAR
