BEGIN:VCALENDAR
VERSION:2.0
PRODID:-//185.158.165.56//NONSGML kigkonsult.se iCalcreator 2.20//
CALSCALE:GREGORIAN
METHOD:PUBLISH
X-WR-TIMEZONE:Europe/Brussels
BEGIN:VEVENT
UID:event25@Kfsa
DTSTAMP:20260420T130042Z
CATEGORIES:Clubvergadering
DESCRIPTION:Camerainstellingen\nCategorie: Clubvergadering\nLink: https://k
 fsa.be/index.php?option=com_jem&view=event&id=25:camerainstellingen\n
DTSTART;TZID=Europe/Brussels:20200305T183000
DTEND;TZID=Europe/Brussels:20200305T210000
LOCATION:De Crawaett\,Poederleese Steenweg 2A\,2275 Lille
SUMMARY:Camerainstellingen
URL:https://kfsa.be/index.php?option=com_jem&view=event&id=25:camerainstell
 ingen
END:VEVENT
END:VCALENDAR
