BEGIN:VCALENDAR
VERSION:2.0
PRODID:-//185.158.165.56//NONSGML kigkonsult.se iCalcreator 2.20//
CALSCALE:GREGORIAN
METHOD:PUBLISH
X-WR-TIMEZONE:Europe/Brussels
BEGIN:VEVENT
UID:event27@Kfsa
DTSTAMP:20260420T104028Z
CATEGORIES:Clubvergadering
DESCRIPTION:Stautaire vergadering\nCategorie: Clubvergadering\nLink: https:
 //kfsa.be/index.php?option=com_jem&view=event&id=27:clubavond\n
DTSTART;TZID=Europe/Brussels:20200402T183000
DTEND;TZID=Europe/Brussels:20200402T210000
LOCATION:De Crawaett\,Poederleese Steenweg 2A\,2275 Lille
SUMMARY:Stautaire vergadering
URL:https://kfsa.be/index.php?option=com_jem&view=event&id=27:clubavond
END:VEVENT
END:VCALENDAR
