BEGIN:VCALENDAR
VERSION:2.0
PRODID:-//185.158.165.56//NONSGML kigkonsult.se iCalcreator 2.20//
CALSCALE:GREGORIAN
METHOD:PUBLISH
X-WR-TIMEZONE:Europe/Brussels
BEGIN:VEVENT
UID:event29@Kfsa
DTSTAMP:20260420T090923Z
CATEGORIES:Clubvergadering
DESCRIPTION:Clubavond\nCategorie: Clubvergadering\nLink: https://kfsa.be/in
 dex.php?option=com_jem&view=event&id=29:clubavond\n
DTSTART;TZID=Europe/Brussels:20200305T183000
DTEND;TZID=Europe/Brussels:20200305T210000
LOCATION:De Crawaett\,Poederleese Steenweg 2A\,2275 Lille
SUMMARY:Clubavond
URL:https://kfsa.be/index.php?option=com_jem&view=event&id=29:clubavond
END:VEVENT
END:VCALENDAR
