BEGIN:VCALENDAR
VERSION:2.0
PRODID:-//185.158.165.56//NONSGML kigkonsult.se iCalcreator 2.20//
CALSCALE:GREGORIAN
METHOD:PUBLISH
X-WR-TIMEZONE:Europe/Brussels
BEGIN:VEVENT
UID:event3@Kfsa
DTSTAMP:20260420T163502Z
CATEGORIES:Clubvergadering
DESCRIPTION:Clubvergadering: selecteren foto's Antwerpen-Caal\nCategorie: C
 lubvergadering\nLink: https://kfsa.be/index.php?option=com_jem&view=event&
 id=3:clubvergadering-selecteren-foto-s-antwerpen-caal\n
DTSTART;TZID=Europe/Brussels:20190207T180000
DTEND;TZID=Europe/Brussels:20190207T210000
LOCATION:Antwerpen-Centraal\,Koningin Astridplein 27\,2018 Antwerpen
SUMMARY:Clubvergadering: selecteren foto's Antwerpen-Caal
URL:https://kfsa.be/index.php?option=com_jem&view=event&id=3:clubvergaderin
 g-selecteren-foto-s-antwerpen-caal
END:VEVENT
END:VCALENDAR
