BEGIN:VCALENDAR
VERSION:2.0
PRODID:-//185.158.165.56//NONSGML kigkonsult.se iCalcreator 2.20//
CALSCALE:GREGORIAN
METHOD:PUBLISH
X-WR-TIMEZONE:Europe/Brussels
BEGIN:VEVENT
UID:event37@Kfsa
DTSTAMP:20260420T144824Z
CATEGORIES:Fotosalon
DESCRIPTION:Fotosalon KFSA\nCategorie: Fotosalon\nLink: https://kfsa.be/ind
 ex.php?option=com_jem&view=event&id=37:fotosalon-kfsa\n
DTSTART;VALUE=DATE:20201212
DTEND;VALUE=DATE:20201214
LOCATION:Parochiecentrum Sint-Pieter\,Kerkplein 3\,2275 Lille
SUMMARY:Fotosalon KFSA
URL:https://kfsa.be/index.php?option=com_jem&view=event&id=37:fotosalon-kfs
 a
END:VEVENT
END:VCALENDAR
