BEGIN:VCALENDAR
VERSION:2.0
PRODID:-//185.158.165.56//NONSGML kigkonsult.se iCalcreator 2.20//
CALSCALE:GREGORIAN
METHOD:PUBLISH
X-WR-TIMEZONE:Europe/Brussels
BEGIN:VEVENT
UID:event4@Kfsa
DTSTAMP:20260420T160749Z
CATEGORIES:Clubvergadering
DESCRIPTION:Wintertaferelen\nCategorie: Clubvergadering\nLink: https://kfsa
 .be/index.php?option=com_jem&view=event&id=4:clubvergadering\n
DTSTART;TZID=Europe/Brussels:20190221T180000
DTEND;TZID=Europe/Brussels:20190221T210000
LOCATION:Antwerpen-Centraal\,Koningin Astridplein 27\,2018 Antwerpen
SUMMARY:Wintertaferelen
URL:https://kfsa.be/index.php?option=com_jem&view=event&id=4:clubvergaderin
 g
END:VEVENT
END:VCALENDAR
