BEGIN:VCALENDAR
VERSION:2.0
PRODID:-//185.158.165.56//NONSGML kigkonsult.se iCalcreator 2.20//
CALSCALE:GREGORIAN
METHOD:PUBLISH
X-WR-TIMEZONE:Europe/Brussels
BEGIN:VEVENT
UID:event42@Kfsa
DTSTAMP:20260420T091215Z
CATEGORIES:Clubvergadering
DESCRIPTION:Clubvergadering\nCategorie: Clubvergadering\nLink: https://kfsa
 .be/index.php?option=com_jem&view=event&id=42:clubvergadering\n
DTSTART;TZID=Europe/Brussels:20211104T190000
DTEND;TZID=Europe/Brussels:20211104T210000
LOCATION:PC Mollenhof\,Lichtaartsesteenweg 1\,2275 Poederlee
SUMMARY:Clubvergadering
URL:https://kfsa.be/index.php?option=com_jem&view=event&id=42:clubvergaderi
 ng
END:VEVENT
END:VCALENDAR
