BEGIN:VCALENDAR
VERSION:2.0
PRODID:-//185.158.165.56//NONSGML kigkonsult.se iCalcreator 2.20//
CALSCALE:GREGORIAN
METHOD:PUBLISH
X-WR-TIMEZONE:Europe/Brussels
BEGIN:VEVENT
UID:event6@Kfsa
DTSTAMP:20260420T162741Z
CATEGORIES:Clubvergadering
DESCRIPTION:Gastspreker: Stijn Verbruggen\nCategorie: Clubvergadering\nLink
 : https://kfsa.be/index.php?option=com_jem&view=event&id=6:gastspreker-sti
 jn-verbruggen\n
DTSTART;TZID=Europe/Brussels:20190404T180000
DTEND;TZID=Europe/Brussels:20190404T210000
LOCATION:Antwerpen-Centraal\,Koningin Astridplein 27\,2018 Antwerpen
SUMMARY:Gastspreker: Stijn Verbruggen
URL:https://kfsa.be/index.php?option=com_jem&view=event&id=6:gastspreker-st
 ijn-verbruggen
END:VEVENT
END:VCALENDAR
