BEGIN:VCALENDAR
VERSION:2.0
PRODID:-//185.158.165.56//NONSGML kigkonsult.se iCalcreator 2.20//
CALSCALE:GREGORIAN
METHOD:PUBLISH
X-WR-TIMEZONE:Europe/Brussels
BEGIN:VEVENT
UID:event9@Kfsa
DTSTAMP:20260420T161316Z
CATEGORIES:Clubvergadering
DESCRIPTION:Compositie en lijnwerking\nCategorie: Clubvergadering\nLink: ht
 tps://kfsa.be/index.php?option=com_jem&view=event&id=9:compositie-en-lijnw
 erking\n
DTSTART;TZID=Europe/Brussels:20190502T180000
DTEND;TZID=Europe/Brussels:20190502T210000
LOCATION:Antwerpen-Centraal\,Koningin Astridplein 27\,2018 Antwerpen
SUMMARY:Compositie en lijnwerking
URL:https://kfsa.be/index.php?option=com_jem&view=event&id=9:compositie-en-
 lijnwerking
END:VEVENT
END:VCALENDAR
